BEGIN:VCALENDAR
VERSION:2.0
PRODID:-//ChamberMaster//Event Calendar 2.0//EN
METHOD:PUBLISH
X-PUBLISHED-TTL:P3D
REFRESH-INTERVAL:P3D
CALSCALE:GREGORIAN
BEGIN:VEVENT
DTSTART:20250423T130000Z
DTEND:20250423T141500Z
X-MICROSOFT-CDO-ALLDAYEVENT:FALSE
SUMMARY:Portsmouth TODAY
DESCRIPTION:Portsmouth TODAY - brought to you by the Portsmouth Area Chamber of Commerce\, Main Street Portsmouth in Bloom\, and Portsmouth Scioto County Visitors Bureau.  Join these organizations in a forum to promote events happening in the Portsmouth area.  Also hear what different organizations are doing.  Portsmouth TODAY starts at 9 am at the Scioto County Welcome Center.\n\nCall for more details.....\n\nMSP 740-464-0203\n\nChamber at 740-353-7647\n\nPortsmouth Scioto County Visitors Bureau 740-353-1116
X-ALT-DESC;FMTTYPE=text/html:<p><br />\n<br />\nPortsmouth TODAY - brought to you by the Portsmouth Area Chamber of Commerce\, Main Street Portsmouth in Bloom\, and Portsmouth Scioto County Visitors Bureau.&nbsp\; Join these organizations in a forum to promote events happening in the Portsmouth area.&nbsp\; Also hear what different organizations are doing.&nbsp\; Portsmouth TODAY starts at 9 am at the Scioto County Welcome Center.<br />\nCall for more details.....<br />\nMSP&nbsp\;740-464-0203<br />\nChamber at 740-353-7647</p>\n\n<p>Portsmouth Scioto County Visitors Bureau 740-353-1116<br />\n&nbsp\;</p>\n
LOCATION:Scioto County Welcome Center\, 342 2nd Street\, Portsmouth\, OH
UID:e.3589.3034
SEQUENCE:3
DTSTAMP:20260420T173721Z
URL:https://business.portsmouth.org/events/details/portsmouth-today-3034
END:VEVENT

END:VCALENDAR
