BEGIN:VCALENDAR
VERSION:2.0
PRODID:-//ChamberMaster//Event Calendar 2.0//EN
METHOD:PUBLISH
X-PUBLISHED-TTL:P3D
REFRESH-INTERVAL:P3D
CALSCALE:GREGORIAN
BEGIN:VEVENT
DTSTART:20220601T130000Z
DTEND:20220601T141500Z
X-MICROSOFT-CDO-ALLDAYEVENT:FALSE
SUMMARY:Portsmouth TODAY!
DESCRIPTION:Portsmouth TODAY   highlighting positivity by presenting a series of speakers who will update guests on the community's public events and projects\, answer questions\, and hear input from those in attendance.  Event takes place at the Scioto County Welcome Center\, 342 2nd Street\, in downtown Portsmouth. It's free and open to the public   begins at 9 am.  Brought to you by Main Street Portsmouth and the Portsmouth Area Chamber of Commerce.  Call 740-353-7647 for more information.
X-ALT-DESC;FMTTYPE=text/html:<span style="font-size:20px\;"><strong>Portsmouth TODAY &ndash\;</strong> highlighting positivity by presenting a series of speakers who will update guests on the community&rsquo\;s public events and projects\, answer questions\, and hear input from those in attendance.&nbsp\; Event takes place at the Scioto County Welcome Center\, 342 2<sup>nd</sup> Street\, in downtown Portsmouth. It&rsquo\;s free and open to the public &ndash\; begins at 9 am.&nbsp\; Brought to you by Main Street Portsmouth and the Portsmouth Area Chamber of Commerce.&nbsp\; Call 740-353-7647 for more information.</span>&nbsp\;
LOCATION:
UID:e.3589.352
SEQUENCE:3
DTSTAMP:20260423T184749Z
URL:https://business.portsmouth.org/events/details/portsmouth-today-352
END:VEVENT

END:VCALENDAR
