BEGIN:VCALENDAR
VERSION:2.0
PRODID:-//ChamberMaster//Event Calendar 2.0//EN
METHOD:PUBLISH
X-PUBLISHED-TTL:P3D
REFRESH-INTERVAL:P3D
CALSCALE:GREGORIAN
BEGIN:VEVENT
DTSTART:20210704T230000Z
DTEND:20210705T000000Z
X-MICROSOFT-CDO-ALLDAYEVENT:FALSE
SUMMARY:Portsmouth Wind Symphony 4th of July Concert
DESCRIPTION:Portsmouth Wind Symphony annual 4th of July concert at Spartan Municipal Stadium in Portsmouth at 7 pm. \n\n\n\nThe Friends of Portsmouth will have festivities at the stadium all day - from noon until 11 pm.  \n\n\n\n\n\nJoin the symphony for a patriotic concert and and enjoy all-day live music (including Steve Free) and fireworks display at 10 pm.   \n\n\n\nPWS concerts are performed by an accomplished ensemble of fifty local and regional musicians and provide entertainment for all ages.  For more information\, visit their website at www.portsmouthwindsymphony.com.
X-ALT-DESC;FMTTYPE=text/html:<span style="color:#0000CD\;"><span style="font-size:18px\;"><strong>Portsmouth Wind Symphony annual 4th of July concert</strong> at Spartan Municipal Stadium in Portsmouth at 7 pm.&nbsp\;</span></span><br />\n<br />\n<strong><span style="color:#FF0000\;"><span style="font-size:16px\;"><em>The Friends of Portsmouth will have festivities at the stadium all day - from noon until 11 pm.&nbsp\;&nbsp\;</em><br />\n<br />\n<br />\nJoin the symphony for a patriotic concert and and enjoy all-day live music (including Steve Free) and fireworks display at 10 pm.&nbsp\; &nbsp\;<br />\n<br />\nPWS concerts are performed by an accomplished ensemble of fifty local and regional musicians and provide entertainment for all ages.&nbsp\; For more information\, visit their website at www.portsmouthwindsymphony.com.<br />\n&nbsp\;<br />\n&nbsp\;</span></span></strong><br />\n<br />\n&nbsp\;
LOCATION:Spartan Municipal Stadium
UID:e.3589.140
SEQUENCE:3
DTSTAMP:20260419T175142Z
URL:https://business.portsmouth.org/events/details/portsmouth-wind-symphony-4th-of-july-concert-140
END:VEVENT

END:VCALENDAR
