BEGIN:VCALENDAR
VERSION:2.0
PRODID:-//ChamberMaster//Event Calendar 2.0//EN
METHOD:PUBLISH
X-PUBLISHED-TTL:P3D
REFRESH-INTERVAL:P3D
CALSCALE:GREGORIAN
BEGIN:VEVENT
DTSTART:20200404T230000Z
DTEND:20200405T010000Z
X-MICROSOFT-CDO-ALLDAYEVENT:FALSE
SUMMARY:Portsmouth Wind Symphony Spring Concert
DESCRIPTION:Portsmouth Wind Symphony Spring concert \n\n\n\nPWS concerts are performed by an accomplished ensemble of fifty local and regional musicians and provide entertainment for all ages.   For more information\, visit their website at www.portsmouthwindsymphony.com.
X-ALT-DESC;FMTTYPE=text/html:<strong>Portsmouth Wind Symphony Spring concert</strong>&nbsp\;<br />\n<br />\nPWS concerts are performed by an accomplished ensemble of fifty local and regional musicians and provide entertainment for all ages.&nbsp\; &nbsp\;For more information\, visit their website at www.portsmouthwindsymphony.com.<br />\n&nbsp\;
LOCATION:Vern Riffe Center for the Arts 940 2nd Street Portsmouth\, OH 45662
UID:e.3589.19
SEQUENCE:3
DTSTAMP:20260422T122832Z
URL:https://business.portsmouth.org/events/details/portsmouth-wind-symphony-spring-concert-19
END:VEVENT

END:VCALENDAR
