BEGIN:VCALENDAR
VERSION:2.0
PRODID:-//ChamberMaster//Event Calendar 2.0//EN
METHOD:PUBLISH
X-PUBLISHED-TTL:P3D
REFRESH-INTERVAL:P3D
CALSCALE:GREGORIAN
BEGIN:VEVENT
DTSTART;VALUE=DATE:20211211
DTEND;VALUE=DATE:20211212
TRANSP:TRANSPARENT
X-MICROSOFT-CDO-ALLDAYEVENT:TRUE
SUMMARY:Portsmouth Wind Symphony Spring Concert
DESCRIPTION:Exploring the Fun of Christmas \n\n\n\nExploring the Fun of Christmas presented by the Portsmouth Wind Symphony at the Vern Riffe Center for the Arts.  The PWS annual celebration of the holidays promotes family\, fellowship and fun for listeners of all ages.  Call the McKinley Box office at 740-351-3600 for ticket information. \n\n \n\n\n\n\n\nPWS concerts are performed by an accomplished ensemble of fifty local and regional musicians and provide entertainment for all ages.   For more information\, visit their website at www.portsmouthwindsymphony.com.
X-ALT-DESC;FMTTYPE=text/html:<span style="font-size:48px\;"><span style="color:#B22222\;"><strong style="color: rgb(51\, 51\, 51)\; font-family: sans-serif\, Arial\, Verdana\, &quot\;Trebuchet MS&quot\;\; font-size: 13px\;"><span style="font-size:36px\;">Exploring the Fun of Christmas</span>&nbsp\;</strong></span></span><br />\n<br />\n<strong>Exploring the Fun of Christmas presented by the Portsmouth Wind Symphony </strong>at the Vern Riffe Center for the Arts.&nbsp\; The PWS annual celebration of the holidays promotes family\, fellowship and fun for listeners of all ages.&nbsp\; Call the McKinley Box office at 740-351-3600 for ticket information.&nbsp\;<br />\n&nbsp\;<br />\n<br />\n<br />\nPWS concerts are performed by an accomplished ensemble of fifty local and regional musicians and provide entertainment for all ages.&nbsp\; &nbsp\;For more information\, visit their website at www.portsmouthwindsymphony.com.<br />\n&nbsp\;
LOCATION:Vern Riffe Center for the Arts 940 2nd Street Portsmouth\, OH 45662
UID:e.3589.261
SEQUENCE:3
DTSTAMP:20260419T130902Z
URL:https://business.portsmouth.org/events/details/portsmouth-wind-symphony-spring-concert-261
END:VEVENT

END:VCALENDAR
