BEGIN:VCALENDAR
VERSION:2.0
PRODID:-//ChamberMaster//Event Calendar 2.0//EN
METHOD:PUBLISH
X-PUBLISHED-TTL:P3D
REFRESH-INTERVAL:P3D
CALSCALE:GREGORIAN
BEGIN:VEVENT
DTSTART:20200425T210000Z
DTEND:20200426T010000Z
X-MICROSOFT-CDO-ALLDAYEVENT:FALSE
SUMMARY:President's Gala/SSU
DESCRIPTION:Join alumni\, faculty\, staff and friends of Shawnee State University at the 2020 President's Gala.
X-ALT-DESC;FMTTYPE=text/html:<span style="color:#0000CD\;"><span style="font-size:22px\;"><strong>Join alumni\, faculty\, staff and friends of Shawnee State University at the 2020 President&rsquo\;s Gala.</strong>&nbsp\;</span></span>
LOCATION:
UID:e.3589.107
SEQUENCE:3
DTSTAMP:20260422T122644Z
URL:https://business.portsmouth.org/events/details/president-s-gala-ssu-107
END:VEVENT

END:VCALENDAR
