BEGIN:VCALENDAR
VERSION:2.0
PRODID:-//ChamberMaster//Event Calendar 2.0//EN
METHOD:PUBLISH
X-PUBLISHED-TTL:P3D
REFRESH-INTERVAL:P3D
CALSCALE:GREGORIAN
BEGIN:VEVENT
DTSTART:20210515T233000Z
DTEND:20210516T010000Z
X-MICROSOFT-CDO-ALLDAYEVENT:FALSE
SUMMARY:PWS Spring Concert
DESCRIPTION:Live music returns to the Vern Riffe Center!\n\nJoin the Portsmouth Wind Symphony as they return to the stage of the Vern Riffe Center on Saturday\, May 15th at 7:30 pm. \n\n \n\nAdult tickets $10\n\nStudent tickets $5\n\nChildren under 12 are Free!
X-ALT-DESC;FMTTYPE=text/html:<span style="color:#0000CD\;"><span style="font-size:26px\;"><span style="font-family:tahoma\;"><strong>Live music returns to the Vern Riffe Center!<br />\nJoin the Portsmouth Wind Symphony as they return to the stage of the Vern Riffe Center on Saturday\, May 15<sup>th</sup> at 7:30 pm.&nbsp\;<br />\n&nbsp\;<br />\nAdult tickets $10<br />\nStudent tickets $5<br />\nChildren under 12 are Free!</strong></span></span></span>
LOCATION:
UID:e.3589.209
SEQUENCE:3
DTSTAMP:20260419T201546Z
URL:https://business.portsmouth.org/events/details/pws-spring-concert-209
END:VEVENT

END:VCALENDAR
