BEGIN:VCALENDAR
VERSION:2.0
PRODID:-//ChamberMaster//Event Calendar 2.0//EN
METHOD:PUBLISH
X-PUBLISHED-TTL:P3D
REFRESH-INTERVAL:P3D
CALSCALE:GREGORIAN
BEGIN:VEVENT
DTSTART;VALUE=DATE:20221023
DTEND;VALUE=DATE:20221024
TRANSP:TRANSPARENT
X-MICROSOFT-CDO-ALLDAYEVENT:TRUE
SUMMARY:Quilts/Civil War Display
DESCRIPTION:October 2nd \, 9th\, 16th\, 23rd & 30th   The 1810 House Quilt Show with Civil War era quilts on display each Sunday from 1 pm to 3 pm.  The 1810 House is located at 1926 Waller Street in Portsmouth.  For more information\, email Lindsey Kegley at kegleylb@gmail.com.
X-ALT-DESC;FMTTYPE=text/html:<span style="font-size:14px\;"><strong>October 2nd \, 9<sup>th</sup>\, 16<sup>th</sup>\, 23<sup>rd</sup> &amp\; 30<sup>th</sup> &ndash\; The 1810 House Quilt Show </strong>with Civil War era quilts on display each Sunday from 1 pm to 3 pm.&nbsp\; The 1810 House is located at 1926 Waller Street in Portsmouth.&nbsp\; For more information\, email Lindsey Kegley at kegleylb@gmail.com.</span>
LOCATION:
UID:e.3589.464
SEQUENCE:3
DTSTAMP:20260425T021205Z
URL:https://business.portsmouth.org/events/details/quilts-civil-war-display-464
END:VEVENT

END:VCALENDAR
