BEGIN:VCALENDAR
VERSION:2.0
PRODID:-//ChamberMaster//Event Calendar 2.0//EN
METHOD:PUBLISH
X-PUBLISHED-TTL:P3D
REFRESH-INTERVAL:P3D
CALSCALE:GREGORIAN
BEGIN:VEVENT
DTSTART;VALUE=DATE:20210506
DTEND;VALUE=DATE:20210508
TRANSP:TRANSPARENT
X-MICROSOFT-CDO-ALLDAYEVENT:TRUE
SUMMARY:Race for the Roses
DESCRIPTION:Race for the Roses\n\nAn online auction benefiting the SOMC Hospice Caritas Fund because philanthropy stems from generosity\n\nAuction begins at 6pm on Thursday\, May 6\, and ends at noon on Friday\, May 7.\n\nBid on items for yourself or for someone special in your life. This auction is the perfect time to get something unique for Mother's Day.\n\nFrom gorgeous bouquets of roses to gourmet cooking classes to even a day watching the Cincinnati Reds\, there is something for everyone to bid on.\n\nAll proceeds benefit the SOMC Hospice Caritas Fund. This fund helps others in a wide variety of ways. From paying for holiday meals to fulfilling end-of-life wishes\, this fund is a worthy cause.\n\nParticipation details to come!
X-ALT-DESC;FMTTYPE=text/html:<p style="box-sizing: border-box\; margin: 0px 0px 30px\; font-family: Roboto\, sans-serif\; font-size: 17px\; background-color: rgb(255\, 255\, 255)\;"><span style="font-size:22px\;"><b style="box-sizing: border-box\;">Race for the Roses</b></span></p>\n\n<p style="box-sizing: border-box\; margin: 0px 0px 30px\; font-family: Roboto\, sans-serif\; font-size: 17px\; background-color: rgb(255\, 255\, 255)\;"><span style="font-size:18px\;">An online auction benefiting the SOMC Hospice Caritas Fund because philanthropy stems from generosity</span></p>\n\n<p style="box-sizing: border-box\; margin: 0px 0px 30px\; font-family: Roboto\, sans-serif\; font-size: 17px\; background-color: rgb(255\, 255\, 255)\;"><span style="font-size:18px\;">Auction begins at 6pm on Thursday\, May 6\, and ends at noon on Friday\, May 7.</span></p>\n\n<p style="box-sizing: border-box\; margin: 0px 0px 30px\; font-family: Roboto\, sans-serif\; font-size: 17px\; background-color: rgb(255\, 255\, 255)\;"><span style="font-size:18px\;">Bid on items for yourself or for someone special in your life. This auction is the perfect time to get something unique for Mother&rsquo\;s Day.</span></p>\n\n<p style="box-sizing: border-box\; margin: 0px 0px 30px\; font-family: Roboto\, sans-serif\; font-size: 17px\; background-color: rgb(255\, 255\, 255)\;"><span style="font-size:18px\;">From gorgeous bouquets of roses to gourmet cooking classes to even a day watching the Cincinnati Reds\, there is something for everyone to bid on.</span></p>\n\n<p style="box-sizing: border-box\; margin: 0px 0px 30px\; font-family: Roboto\, sans-serif\; font-size: 17px\; background-color: rgb(255\, 255\, 255)\;"><span style="font-size:18px\;">All proceeds benefit the SOMC Hospice Caritas Fund. This fund helps others in a wide variety of ways. From paying for holiday meals to fulfilling end-of-life wishes\, this fund is a worthy cause.</span></p>\n\n<p style="box-sizing: border-box\; margin: 0px 0px 30px\; font-family: Roboto\, sans-serif\; font-size: 17px\; background-color: rgb(255\, 255\, 255)\;"><span style="font-size:18px\;">Participation details to come!</span></p>\n
LOCATION:
UID:e.3589.206
SEQUENCE:3
DTSTAMP:20260419T213359Z
URL:https://business.portsmouth.org/events/details/race-for-the-roses-206
END:VEVENT

END:VCALENDAR
