BEGIN:VCALENDAR
VERSION:2.0
PRODID:-//ChamberMaster//Event Calendar 2.0//EN
METHOD:PUBLISH
X-PUBLISHED-TTL:P3D
REFRESH-INTERVAL:P3D
CALSCALE:GREGORIAN
BEGIN:VEVENT
DTSTART;VALUE=DATE:20200509
DTEND;VALUE=DATE:20200510
TRANSP:TRANSPARENT
X-MICROSOFT-CDO-ALLDAYEVENT:TRUE
SUMMARY:Race\, Rattle & Roll!
DESCRIPTION:Mark your calendars! SOUTHERN OHIO MOUNTAIN BIKING ASSOCIATION is helping plan a fun\, unique event that will showcase all the park has to offer\, as well as\, increase education and awareness for the Timber Rattlesnake. Get your kayaks\, disc golf\, trail running shoes\, and mountain bikes ready to Race\, Rattle\, and Roll!
X-ALT-DESC;FMTTYPE=text/html:<span style="color: rgb(29\, 33\, 41)\; font-family: Helvetica\, Arial\, sans-serif\; font-size: 14px\; background-color: rgb(255\, 255\, 255)\;">Mark your calendars! SOUTHERN OHIO MOUNTAIN BIKING ASSOCIATION is helping plan a fun\, unique event that will showcase all the park has to offer\, as well as\, increase education and awareness for the Timber Rattlesnake. Get your kayaks\, disc golf\, trail running shoes\, and mountain bikes ready to Race\, Rattle\, and Roll!</span>
LOCATION:Mackletree Shelter House Mackletree Road\, West Portsmouth
UID:e.3589.115
SEQUENCE:3
DTSTAMP:20260422T110211Z
URL:https://business.portsmouth.org/events/details/race-rattle-roll-115
END:VEVENT

END:VCALENDAR
