BEGIN:VCALENDAR
VERSION:2.0
PRODID:-//ChamberMaster//Event Calendar 2.0//EN
METHOD:PUBLISH
X-PUBLISHED-TTL:P3D
REFRESH-INTERVAL:P3D
CALSCALE:GREGORIAN
BEGIN:VEVENT
DTSTART:20240412T150000Z
DTEND:20240412T170000Z
X-MICROSOFT-CDO-ALLDAYEVENT:FALSE
SUMMARY:Ribbon Cutting @ FSB
DESCRIPTION:Join us for a ribbon cutting ceremony to commemorate the grand opening of First State Bank 1110 Gay Street in downtown Portsmouth.  Grand opening celebration following the ribbon cutting.
X-ALT-DESC;FMTTYPE=text/html:Join us for a ribbon cutting ceremony to commemorate the grand opening of First State Bank 1110 Gay Street in downtown Portsmouth.&nbsp\; Grand opening celebration following the ribbon cutting.&nbsp\;&nbsp\;
LOCATION:
UID:e.3589.2312
SEQUENCE:3
DTSTAMP:20260425T125616Z
URL:https://business.portsmouth.org/events/details/ribbon-cutting-fsb-2312
END:VEVENT

END:VCALENDAR
