BEGIN:VCALENDAR
VERSION:2.0
PRODID:-//ChamberMaster//Event Calendar 2.0//EN
METHOD:PUBLISH
X-PUBLISHED-TTL:P3D
REFRESH-INTERVAL:P3D
CALSCALE:GREGORIAN
BEGIN:VEVENT
DTSTART:20240210T170000Z
DTEND:20240210T180000Z
X-MICROSOFT-CDO-ALLDAYEVENT:FALSE
SUMMARY:Ribbon Cutting @ The Vault Ohio
DESCRIPTION:The Chamber will host a ribbon cutting ceremony to celebrate the opening the The Vault Ohio\, 317 Chillicothe Street in downtown Portsmouth.  \n\n\n\nNoon on February 10th.  \n\n\n\nThe Vault is the ultimate ESPORTS Gaming Center with technology-based ESPORTS entertainment\, worldwide online gaming tournaments\, in-house gaming tournaments plus we provide a fun\, interactive gaming experience for all with food and drinks.
X-ALT-DESC;FMTTYPE=text/html:<span style="font-size:22px\;">The Chamber will host a ribbon cutting ceremony to celebrate the opening the The Vault Ohio\, 317 Chillicothe Street in downtown Portsmouth.&nbsp\;&nbsp\;<br />\n<br />\nNoon on February 10th.&nbsp\;&nbsp\;<br />\n<br />\n<span style="color: rgb(5\, 5\, 5)\; font-family: &quot\;Segoe UI Historic&quot\;\, &quot\;Segoe UI&quot\;\, Helvetica\, Arial\, sans-serif\; text-align: center\; background-color: rgb(255\, 255\, 255)\;">The Vault is the ultimate ESPORTS Gaming Center with technology-based ESPORTS entertainment\, worldwide online gaming tournaments\, in-house gaming tournaments plus we provide a fun\, interactive gaming experience for all with food and drinks.</span></span>
LOCATION:
UID:e.3589.2248
SEQUENCE:3
DTSTAMP:20260425T102551Z
URL:https://business.portsmouth.org/events/details/ribbon-cutting-the-vault-ohio-2248
END:VEVENT

END:VCALENDAR
