BEGIN:VCALENDAR
VERSION:2.0
PRODID:-//ChamberMaster//Event Calendar 2.0//EN
METHOD:PUBLISH
X-PUBLISHED-TTL:P3D
REFRESH-INTERVAL:P3D
CALSCALE:GREGORIAN
BEGIN:VEVENT
DTSTART;VALUE=DATE:20241215
DTEND;VALUE=DATE:20241216
TRANSP:TRANSPARENT
X-MICROSOFT-CDO-ALLDAYEVENT:TRUE
SUMMARY:Road to Bethlehem (Drive Thru)
DESCRIPTION:Experience the magic and joy of the first Christmas. Drive your car past scenes of Bethlehem. Actors portray angels\, shepherds\, wise men\, Roman soldiers\, and many more characters. There will be live animals.
X-ALT-DESC;FMTTYPE=text/html:Experience the magic and joy of the first Christmas. Drive your car past scenes of Bethlehem. Actors portray angels\, shepherds\, wise men\, Roman soldiers\, and many more characters. There will be live animals.
LOCATION:The lawn of the Oldtown Methodist Chruch (next to the IGA in West Portsmouth)
UID:e.3589.3014
SEQUENCE:3
DTSTAMP:20260421T084516Z
URL:https://business.portsmouth.org/events/details/road-to-bethlehem-drive-thru-3014
END:VEVENT

END:VCALENDAR
