BEGIN:VCALENDAR
VERSION:2.0
PRODID:-//ChamberMaster//Event Calendar 2.0//EN
METHOD:PUBLISH
X-PUBLISHED-TTL:P3D
REFRESH-INTERVAL:P3D
CALSCALE:GREGORIAN
BEGIN:VEVENT
DTSTART:20210611T220000Z
DTEND:20210612T020000Z
X-MICROSOFT-CDO-ALLDAYEVENT:FALSE
SUMMARY:Rock On the River
DESCRIPTION:Rock on the River Concert Series at the 3 Bridges Outdoor Concert Venue on 2nd Street in downtown Portsmouth from 6   10 pm.  The first of a new live concert series recognizing local and regional rock bands from southern Ohio and surrounding Tristate. First show will feature\, Intercession for Imposters\, Swivel\, Artifax and Kings Hollow. The event is free.  Bring your lawn chair and get ready for an evening of entertainment!
X-ALT-DESC;FMTTYPE=text/html:<span style="font-size:22px\;"><span style="color:#FF0000\;"><strong>Rock on the River Concert Series </strong>at the 3 Bridges Outdoor Concert Venue on 2nd Street in downtown Portsmouth from 6 &ndash\; 10 pm.&nbsp\; The first of a new live concert series recognizing local and regional rock bands from southern Ohio and surrounding Tristate. First show will feature\, Intercession for Imposters\, Swivel\, Artifax and Kings Hollow. The event is free.&nbsp\; Bring your lawn chair and get ready for an evening of entertainment!&nbsp\;</span></span><br />\n&nbsp\;
LOCATION:
UID:e.3589.177
SEQUENCE:3
DTSTAMP:20260419T200826Z
URL:https://business.portsmouth.org/events/details/rock-on-the-river-177
END:VEVENT

END:VCALENDAR
