BEGIN:VCALENDAR
VERSION:2.0
PRODID:-//ChamberMaster//Event Calendar 2.0//EN
METHOD:PUBLISH
X-PUBLISHED-TTL:P3D
REFRESH-INTERVAL:P3D
CALSCALE:GREGORIAN
BEGIN:VEVENT
DTSTART;VALUE=DATE:20200311
DTEND;VALUE=DATE:20200312
TRANSP:TRANSPARENT
X-MICROSOFT-CDO-ALLDAYEVENT:TRUE
SUMMARY:Rotary Rose Sale
DESCRIPTION:Portsmouth Rotary Rose Sale!\n\n\n\nThe Rotary of Portsmouth holds an annual Rose Sale as one of two fundraisers to support our community.  Each year 800-1000 dozen are sold by Rotarians.  \n\n\n\nRoses are $23 a dozen and are on sale NOW!  Purchase roses from any Rotarian or by contacting Samantha Comer at 740-352-4085 or Sonie Hash at 740-727-1648.  Available in many colors including red\, pink\, white\, yellow and peach.  Delivered to Portsmouth\, Sciotoville\, New Boston and some areas of Wheelersburg on March 11th.
X-ALT-DESC;FMTTYPE=text/html:<strong><span style="font-size:26px\;"><span style="color:#B22222\;">Portsmouth Rotary Rose Sale!</span></span></strong><br />\n<br />\n<span style="font-size:18px\;">The Rotary of Portsmouth holds an annual Rose Sale as one of two fundraisers to support our community.&nbsp\; Each year 800-1000 dozen are sold by Rotarians.&nbsp\;&nbsp\;<br />\n<br />\nRoses are $23 a dozen and are on sale NOW!&nbsp\; Purchase roses from any Rotarian or by contacting Samantha Comer at 740-352-4085 or Sonie Hash at 740-727-1648.&nbsp\; Available in many colors including red\, pink\, white\, yellow and peach.&nbsp\; Delivered to Portsmouth\, Sciotoville\, New Boston and some areas of Wheelersburg on March 11th.&nbsp\;&nbsp\;</span>
LOCATION:
UID:e.3589.76
SEQUENCE:3
DTSTAMP:20260422T135003Z
URL:https://business.portsmouth.org/events/details/rotary-rose-sale-76
END:VEVENT

END:VCALENDAR
