BEGIN:VCALENDAR
VERSION:2.0
PRODID:-//ChamberMaster//Event Calendar 2.0//EN
METHOD:PUBLISH
X-PUBLISHED-TTL:P3D
REFRESH-INTERVAL:P3D
CALSCALE:GREGORIAN
BEGIN:VEVENT
DTSTART:20210507T210000Z
DTEND:20210507T230000Z
X-MICROSOFT-CDO-ALLDAYEVENT:FALSE
SUMMARY:Safety Town
DESCRIPTION:Safety Town presented by Portsmouth Connex at Mound Park.  Join the group for a great day in the fun zone!  Free helmets\, obstacle course\, bike safety inspection   must wear closed toe shoes   no sandals and mask required.  No registration required.  The event is from 5   7 pm.
X-ALT-DESC;FMTTYPE=text/html:<span style="font-size:24px\;"><strong>Safety Town</strong> presented by Portsmouth Connex at Mound Park.&nbsp\; Join the group for a great day in the fun zone!&nbsp\; Free helmets\, obstacle course\, bike safety inspection &ndash\; must wear closed toe shoes &ndash\; no sandals and mask required.&nbsp\; No registration required.&nbsp\; The event is from 5 &ndash\; 7 pm.&nbsp\;</span>
LOCATION:
UID:e.3589.207
SEQUENCE:3
DTSTAMP:20260419T202942Z
URL:https://business.portsmouth.org/events/details/safety-town-207
END:VEVENT

END:VCALENDAR
