BEGIN:VCALENDAR
VERSION:2.0
PRODID:-//ChamberMaster//Event Calendar 2.0//EN
METHOD:PUBLISH
X-PUBLISHED-TTL:P3D
REFRESH-INTERVAL:P3D
CALSCALE:GREGORIAN
BEGIN:VEVENT
DTSTART;VALUE=DATE:20210515
DTEND;VALUE=DATE:20210516
TRANSP:TRANSPARENT
X-MICROSOFT-CDO-ALLDAYEVENT:TRUE
SUMMARY:SCCTC Golf Scramble
DESCRIPTION:2021 SkillsUSA Golf Scramble\n\nPresented by Scioto County Career Technical Center\n\n"Preparing for leadership in the world of work."
X-ALT-DESC;FMTTYPE=text/html:<strong><span style="font-size:24px\;">2021 SkillsUSA Golf Scramble<br />\n<em><span style="font-size:16px\;">Presented by Scioto County Career Technical Center<br />\n&quot\;Preparing for leadership in the world of work.&quot\;</span></em></span></strong><br />\n&nbsp\;
LOCATION:
UID:e.3589.193
SEQUENCE:3
DTSTAMP:20260419T203029Z
URL:https://business.portsmouth.org/events/details/scctc-golf-scramble-193
END:VEVENT

END:VCALENDAR
