BEGIN:VCALENDAR
VERSION:2.0
PRODID:-//ChamberMaster//Event Calendar 2.0//EN
METHOD:PUBLISH
X-PUBLISHED-TTL:P3D
REFRESH-INTERVAL:P3D
CALSCALE:GREGORIAN
BEGIN:VEVENT
DTSTART;VALUE=DATE:20200524
DTEND;VALUE=DATE:20200525
TRANSP:TRANSPARENT
X-MICROSOFT-CDO-ALLDAYEVENT:TRUE
SUMMARY:Scioto Brush Creek Sweep
DESCRIPTION:May 24th   Scioto Brush Creek Sweep.\n\nCanoe a section of Scioto Brush Creek with FoSBC volunteers and help remove litter from the stream.  Reservations required contact Anita at 937-544-1010. Canoes\, paddles & lifejackets provided for up to 32 people.  Bring a lunch\, gloves and dress to get your feet wet.
X-ALT-DESC;FMTTYPE=text/html:<span style="font-size:22px\;"><strong>May 24<sup>th</sup> &ndash\; Scioto Brush Creek Sweep</strong></span>.<br />\nCanoe a section of Scioto Brush Creek with FoSBC volunteers and help remove litter from the stream<strong>.&nbsp\; <u>Reservations required</u></strong> contact Anita at 937-544-1010. Canoes\, paddles &amp\; lifejackets provided for up to 32 people.&nbsp\; Bring a lunch\, gloves and dress to get your feet wet.&nbsp\;
LOCATION:
UID:e.3589.80
SEQUENCE:3
DTSTAMP:20260422T110254Z
URL:https://business.portsmouth.org/events/details/scioto-brush-creek-sweep-80
END:VEVENT

END:VCALENDAR
