BEGIN:VCALENDAR
VERSION:2.0
PRODID:-//ChamberMaster//Event Calendar 2.0//EN
METHOD:PUBLISH
X-PUBLISHED-TTL:P3D
REFRESH-INTERVAL:P3D
CALSCALE:GREGORIAN
BEGIN:VEVENT
DTSTART;VALUE=DATE:20210809
DTEND;VALUE=DATE:20210815
TRANSP:TRANSPARENT
X-MICROSOFT-CDO-ALLDAYEVENT:TRUE
SUMMARY:Scioto County Fair
DESCRIPTION:Scioto County Fair at the Scioto County Fairgrounds\, 1193 Fairground Road in Lucasville. \n\n\n\nCountry music star Sammy Kershaw will perform at the Scioto County Fair on Friday\, Aug. 13\, 2021! Also returning this year: High School Band Showcase\, Tractor Pulls\, Circus\, Drag Racing\, and Demolition Derby!  Visit their webpage at sciotocountyfair.org for more details.
X-ALT-DESC;FMTTYPE=text/html:<span style="font-size:22px\;"><span style="color:#0000CD\;"><strong>Scioto County Fair </strong>at the Scioto County Fairgrounds\, 1193 Fairground Road in Lucasville.&nbsp\;<br />\n<br />\nCountry music star Sammy Kershaw will perform at the Scioto County Fair on Friday\, Aug. 13\, 2021! Also returning this year: High School Band Showcase\, Tractor Pulls\, Circus\, Drag Racing\, and Demolition Derby!&nbsp\; Visit their webpage at sciotocountyfair.org for more details.</span></span><br />\n&nbsp\;<br />\n&nbsp\;
LOCATION:
UID:e.3589.141
SEQUENCE:3
DTSTAMP:20260419T164055Z
URL:https://business.portsmouth.org/events/details/scioto-county-fair-141
END:VEVENT

END:VCALENDAR
