BEGIN:VCALENDAR
VERSION:2.0
PRODID:-//ChamberMaster//Event Calendar 2.0//EN
METHOD:PUBLISH
X-PUBLISHED-TTL:P3D
REFRESH-INTERVAL:P3D
CALSCALE:GREGORIAN
BEGIN:VEVENT
DTSTART;VALUE=DATE:20240328
DTEND;VALUE=DATE:20240329
TRANSP:TRANSPARENT
X-MICROSOFT-CDO-ALLDAYEVENT:TRUE
SUMMARY:Scioto County Head Start Spring Fling
DESCRIPTION:Community Action Scioto County Head Start will host the Spring Fling 5:30 to 7 pm. at Highland Head Start 1511 Hutchins St. Portsmouth.  Activities for Children\, Free food\, Free pictures with Easter bunny and Kindergarten Fair.
X-ALT-DESC;FMTTYPE=text/html:Community Action Scioto County Head Start will host the Spring Fling 5:30 to 7 pm. at Highland Head Start 1511 Hutchins St. Portsmouth.&nbsp\; Activities for Children\, Free food\, Free pictures with Easter bunny and Kindergarten Fair.
LOCATION:
UID:e.3589.2293
SEQUENCE:3
DTSTAMP:20260425T113927Z
URL:https://business.portsmouth.org/events/details/scioto-county-head-start-spring-fling-2293
END:VEVENT

END:VCALENDAR
