BEGIN:VCALENDAR
VERSION:2.0
PRODID:-//ChamberMaster//Event Calendar 2.0//EN
METHOD:PUBLISH
X-PUBLISHED-TTL:P3D
REFRESH-INTERVAL:P3D
CALSCALE:GREGORIAN
BEGIN:VEVENT
DTSTART:20200318T210000Z
DTEND:20200318T210000Z
X-MICROSOFT-CDO-ALLDAYEVENT:FALSE
SUMMARY:Scioto Foundation Scholarship Application Closes
DESCRIPTION:Are you a high school senior or current college student planning on attend college during the 2020-'21 school year? If so\, you maybe eligible for a Scioto Foundation scholarship. To apply please visit www.sciotofoundation.org for more details.
X-ALT-DESC;FMTTYPE=text/html:Are you a high school senior or current college student planning on attend college during the 2020-&#39\;21 school year? If so\, you maybe eligible for a Scioto Foundation scholarship. To apply please visit www.sciotofoundation.org for more details.
LOCATION:www.sciotofoundation.org
UID:e.3589.90
SEQUENCE:3
DTSTAMP:20260422T151440Z
URL:https://business.portsmouth.org/events/details/scioto-foundation-scholarship-application-closes-90
END:VEVENT

END:VCALENDAR
