BEGIN:VCALENDAR
VERSION:2.0
PRODID:-//ChamberMaster//Event Calendar 2.0//EN
METHOD:PUBLISH
X-PUBLISHED-TTL:P3D
REFRESH-INTERVAL:P3D
CALSCALE:GREGORIAN
BEGIN:VEVENT
DTSTART:20241017T120000Z
DTEND:20241018T000000Z
X-MICROSOFT-CDO-ALLDAYEVENT:FALSE
SUMMARY:Scioto Gives
DESCRIPTION:Scioto Foundation Day of Giving to benefit local non profits.
X-ALT-DESC;FMTTYPE=text/html:<br />\n<br />\nScioto Foundation Day of Giving to benefit local non profits.
LOCATION:Scioto Foundation
UID:e.3589.2246
SEQUENCE:3
DTSTAMP:20260421T204719Z
URL:https://business.portsmouth.org/events/details/scioto-gives-10-17-2024-2246
END:VEVENT

END:VCALENDAR
