BEGIN:VCALENDAR
VERSION:2.0
PRODID:-//ChamberMaster//Event Calendar 2.0//EN
METHOD:PUBLISH
X-PUBLISHED-TTL:P3D
REFRESH-INTERVAL:P3D
CALSCALE:GREGORIAN
BEGIN:VEVENT
DTSTART:20200324T230000Z
DTEND:20200325T000000Z
X-MICROSOFT-CDO-ALLDAYEVENT:FALSE
SUMMARY:Shawnee Nature Club Meeting
DESCRIPTION:Animal Welfare League presented by Jackie Servedia & Judy Cooper.   No registration required.
X-ALT-DESC;FMTTYPE=text/html:Animal Welfare League presented by Jackie Servedia &amp\; Judy Cooper. &nbsp\;&nbsp\;No registration required.&nbsp\;<br />\n<br />\n&nbsp\;
LOCATION:Hill View Retirement Center in the Forest Room
UID:e.3589.17
SEQUENCE:3
DTSTAMP:20260422T135141Z
URL:https://business.portsmouth.org/events/details/shawnee-nature-club-meeting-17
END:VEVENT

END:VCALENDAR
