BEGIN:VCALENDAR
VERSION:2.0
PRODID:-//ChamberMaster//Event Calendar 2.0//EN
METHOD:PUBLISH
X-PUBLISHED-TTL:P3D
REFRESH-INTERVAL:P3D
CALSCALE:GREGORIAN
BEGIN:VEVENT
DTSTART:20200424T230000Z
DTEND:20200425T000000Z
X-MICROSOFT-CDO-ALLDAYEVENT:FALSE
SUMMARY:Shawnee Nature Club Meeting
DESCRIPTION:Shawnee Nature Club meeting -  The April topic will be Herbs-Food Heritage.  No registration required.
X-ALT-DESC;FMTTYPE=text/html:<br />\n<strong>Shawnee Nature Club meeting -&nbsp\;</strong>&nbsp\;The April topic will be Herbs-Food Heritage.&nbsp\; No registration required.&nbsp\;<br />\n&nbsp\;<br />\n<br />\n&nbsp\;
LOCATION:Hill View Retirement Center in the Forest Room
UID:e.3589.31
SEQUENCE:3
DTSTAMP:20260422T122853Z
URL:https://business.portsmouth.org/events/details/shawnee-nature-club-meeting-31
END:VEVENT

END:VCALENDAR
