BEGIN:VCALENDAR
VERSION:2.0
PRODID:-//ChamberMaster//Event Calendar 2.0//EN
METHOD:PUBLISH
X-PUBLISHED-TTL:P3D
REFRESH-INTERVAL:P3D
CALSCALE:GREGORIAN
BEGIN:VEVENT
DTSTART:20200519T230000Z
DTEND:20200520T000000Z
X-MICROSOFT-CDO-ALLDAYEVENT:FALSE
SUMMARY:Shawnee Nature Club Meeting
DESCRIPTION:Shawnee Nature Club meeting -  The May topic will be Geology\, Flora and Fauna presented by Carolyn Cottrell from the public library.
X-ALT-DESC;FMTTYPE=text/html:<br>\n<strong>Shawnee Nature Club meeting -&nbsp\;</strong>&nbsp\;The May topic will be Geology\, Flora and Fauna presented by Carolyn Cottrell from the public library.&nbsp\;&nbsp\;<br>\n&nbsp\;<br>\n<br>\n&nbsp\;
LOCATION:Hill View Retirement Center in the Forest Room
UID:e.3589.39
SEQUENCE:3
DTSTAMP:20260422T110431Z
URL:https://business.portsmouth.org/events/details/shawnee-nature-club-meeting-39
END:VEVENT

END:VCALENDAR
