BEGIN:VCALENDAR
VERSION:2.0
PRODID:-//ChamberMaster//Event Calendar 2.0//EN
METHOD:PUBLISH
X-PUBLISHED-TTL:P3D
REFRESH-INTERVAL:P3D
CALSCALE:GREGORIAN
BEGIN:VEVENT
DTSTART:20200122T000000Z
DTEND:20200122T010000Z
X-MICROSOFT-CDO-ALLDAYEVENT:FALSE
SUMMARY:Shawnee Nature Club Meeting
DESCRIPTION:The January topic will be Wild Edibles presented by Jenny Richards Claypool.   No registration required.
X-ALT-DESC;FMTTYPE=text/html:<br />\nThe January topic will be Wild Edibles presented by Jenny Richards Claypool. &nbsp\;&nbsp\;No registration required.<br />\n&nbsp\;
LOCATION:Hill View Retirement Center in the Forest Room
UID:e.3589.4
SEQUENCE:3
DTSTAMP:20260422T170744Z
URL:https://business.portsmouth.org/events/details/shawnee-nature-club-meeting-4
END:VEVENT

END:VCALENDAR
