BEGIN:VCALENDAR
VERSION:2.0
PRODID:-//ChamberMaster//Event Calendar 2.0//EN
METHOD:PUBLISH
X-PUBLISHED-TTL:P3D
REFRESH-INTERVAL:P3D
CALSCALE:GREGORIAN
BEGIN:VEVENT
DTSTART:20200219T000000Z
DTEND:20200219T010000Z
X-MICROSOFT-CDO-ALLDAYEVENT:FALSE
SUMMARY:Shawnee Nature Club Meeting
DESCRIPTION:The February topic will be Pioneer Life presented by Carolyn Cottrell from the local library.   Free and open to the public.  No registration required.
X-ALT-DESC;FMTTYPE=text/html:<br />\nThe February topic will be Pioneer Life presented by Carolyn Cottrell from the local library. &nbsp\; Free and open to the public.&nbsp\;&nbsp\;No registration required. &nbsp\;<br />\n&nbsp\;<br />\n<br />\n&nbsp\;
LOCATION:Hill View Retirement Center in the Forest Room
UID:e.3589.8
SEQUENCE:3
DTSTAMP:20260422T151723Z
URL:https://business.portsmouth.org/events/details/shawnee-nature-club-meeting-8
END:VEVENT

END:VCALENDAR
