BEGIN:VCALENDAR
VERSION:2.0
PRODID:-//ChamberMaster//Event Calendar 2.0//EN
METHOD:PUBLISH
X-PUBLISHED-TTL:P3D
REFRESH-INTERVAL:P3D
CALSCALE:GREGORIAN
BEGIN:VEVENT
DTSTART;VALUE=DATE:20241005
DTEND;VALUE=DATE:20241006
TRANSP:TRANSPARENT
X-MICROSOFT-CDO-ALLDAYEVENT:TRUE
SUMMARY:Shawnee State Forest - Legacy Geology Hike
DESCRIPTION:Meet at Roosevelt Lake Shelter House
X-ALT-DESC;FMTTYPE=text/html:Meet at Roosevelt Lake Shelter House&nbsp\;
LOCATION:
UID:e.3589.2946
SEQUENCE:3
DTSTAMP:20260421T204704Z
URL:https://business.portsmouth.org/events/details/shawnee-state-forest-legacy-geology-hike-2946
END:VEVENT

END:VCALENDAR
