BEGIN:VCALENDAR
VERSION:2.0
PRODID:-//ChamberMaster//Event Calendar 2.0//EN
METHOD:PUBLISH
X-PUBLISHED-TTL:P3D
REFRESH-INTERVAL:P3D
CALSCALE:GREGORIAN
BEGIN:VEVENT
DTSTART;VALUE=DATE:20241017
DTEND;VALUE=DATE:20241018
TRANSP:TRANSPARENT
X-MICROSOFT-CDO-ALLDAYEVENT:TRUE
SUMMARY:SHREK The Musical
DESCRIPTION:Fall in Love all Ogre Again! Make room for 'ogre-sized' family fun as the greatest fairy tale' never told' comes to life in a whole new way in this breathtaking Broadway musical adaptation of the hit movie Shrek! An unlikely hero who finds himself on a life-changing journey alongside a wisecracking Donkey and a feisty princess who resists her rescue.
X-ALT-DESC;FMTTYPE=text/html:Fall in Love all Ogre Again! Make room for &#39\;ogre-sized&#39\; family fun as the greatest fairy tale&#39\; never told&#39\; comes to life in a whole new way in this breathtaking Broadway musical adaptation of the hit movie Shrek! An unlikely hero who finds himself on a life-changing journey alongside a wisecracking Donkey and a feisty princess who resists her rescue.&nbsp\;
LOCATION:Vern Riffe Center for the Arts\, 940 Second St. Portsmouth\, ohio
UID:e.3589.2467
SEQUENCE:3
DTSTAMP:20260421T204657Z
URL:https://business.portsmouth.org/events/details/shrek-the-musical-2467
END:VEVENT

END:VCALENDAR
