BEGIN:VCALENDAR
VERSION:2.0
PRODID:-//ChamberMaster//Event Calendar 2.0//EN
METHOD:PUBLISH
X-PUBLISHED-TTL:P3D
REFRESH-INTERVAL:P3D
CALSCALE:GREGORIAN
BEGIN:VEVENT
DTSTART:20200321T210000Z
DTEND:20200322T010000Z
X-MICROSOFT-CDO-ALLDAYEVENT:FALSE
SUMMARY:Sierra's Haven Pot of Luck Dinner/Auction
DESCRIPTION:Sierra's Haven for new and used pets - 19th Annual Pot of Luck Dinner and Auction at the Elks City Club. If you have a donation for the auction\, bring it to Sierra's Haven or call 740-353-5100.
X-ALT-DESC;FMTTYPE=text/html:Sierra&#39\;s Haven for new and used pets - 19th Annual Pot of Luck Dinner and Auction at the Elks City Club. If you have a donation for the auction\, bring it to Sierra&#39\;s Haven or call 740-353-5100.&nbsp\; &nbsp\;&nbsp\;
LOCATION:Elks City Club
UID:e.3589.117
SEQUENCE:3
DTSTAMP:20260422T135141Z
URL:https://business.portsmouth.org/events/details/sierra-s-haven-pot-of-luck-dinner-auction-117
END:VEVENT

END:VCALENDAR
