BEGIN:VCALENDAR
VERSION:2.0
PRODID:-//ChamberMaster//Event Calendar 2.0//EN
METHOD:PUBLISH
X-PUBLISHED-TTL:P3D
REFRESH-INTERVAL:P3D
CALSCALE:GREGORIAN
BEGIN:VEVENT
DTSTART;VALUE=DATE:20241026
DTEND;VALUE=DATE:20241027
TRANSP:TRANSPARENT
X-MICROSOFT-CDO-ALLDAYEVENT:TRUE
SUMMARY:Slightly Spooky Saturday Family Fest
DESCRIPTION:Wheelersburg Community Group - Trick or Treat Scavenger Hunt\, movie\, food\, old fashion jail\, games\, music and more.
X-ALT-DESC;FMTTYPE=text/html:Wheelersburg Community Group - Trick or Treat Scavenger Hunt\, movie\, food\, old fashion jail\, games\, music and more.&nbsp\;
LOCATION:Porter Township Park
UID:e.3589.2955
SEQUENCE:3
DTSTAMP:20260421T193931Z
URL:https://business.portsmouth.org/events/details/slightly-spooky-saturday-family-fest-2955
END:VEVENT

END:VCALENDAR
