BEGIN:VCALENDAR
VERSION:2.0
PRODID:-//ChamberMaster//Event Calendar 2.0//EN
METHOD:PUBLISH
X-PUBLISHED-TTL:P3D
REFRESH-INTERVAL:P3D
CALSCALE:GREGORIAN
BEGIN:VEVENT
DTSTART;VALUE=DATE:20200222
DTEND;VALUE=DATE:20200223
TRANSP:TRANSPARENT
X-MICROSOFT-CDO-ALLDAYEVENT:TRUE
SUMMARY:SOMC Ladies Night Out
DESCRIPTION:The event is tailored toward pampering ladies so they can take better care of themselves\, enabling them to continue to be the heart of the family.
X-ALT-DESC;FMTTYPE=text/html:The event is tailored toward pampering ladies so they can take better care of themselves\, enabling them to continue to be the heart of the family.&nbsp\;&nbsp\;
LOCATION:SOMC Friends Center\, 1202 18th Street\, Portsmouth\, OH 45662
UID:e.3589.9
SEQUENCE:3
DTSTAMP:20260422T153311Z
URL:https://business.portsmouth.org/events/details/somc-ladies-night-out-9
END:VEVENT

END:VCALENDAR
