BEGIN:VCALENDAR
VERSION:2.0
PRODID:-//ChamberMaster//Event Calendar 2.0//EN
METHOD:PUBLISH
X-PUBLISHED-TTL:P3D
REFRESH-INTERVAL:P3D
CALSCALE:GREGORIAN
BEGIN:VEVENT
DTSTART:20250607T160000Z
DTEND:20250607T160000Z
X-MICROSOFT-CDO-ALLDAYEVENT:FALSE
SUMMARY:SOMC Maternity Remembrance Walk
DESCRIPTION:A reflective walk to raise awareness of pregnancy loss and infant loss. The walk is in honor of all babies lost to miscarriage\, stillbirth\, or infant death.
X-ALT-DESC;FMTTYPE=text/html:A reflective walk to raise awareness of pregnancy loss and infant loss. The walk is in honor of all babies lost to miscarriage\, stillbirth\, or infant death.
LOCATION:Earl Thomas Conley Park West Portsmouth Ohio
UID:e.3589.2461
SEQUENCE:3
DTSTAMP:20260420T140349Z
URL:https://business.portsmouth.org/events/details/somc-maternity-remembrance-walk-2461
END:VEVENT

END:VCALENDAR
