BEGIN:VCALENDAR
VERSION:2.0
PRODID:-//ChamberMaster//Event Calendar 2.0//EN
METHOD:PUBLISH
X-PUBLISHED-TTL:P3D
REFRESH-INTERVAL:P3D
CALSCALE:GREGORIAN
BEGIN:VEVENT
DTSTART;VALUE=DATE:20210806
DTEND;VALUE=DATE:20210807
TRANSP:TRANSPARENT
X-MICROSOFT-CDO-ALLDAYEVENT:TRUE
SUMMARY:Sons of the Pioneers
DESCRIPTION:The Roy Rogers Festival presents SONS OF THE PIONEERS starting at 7:30 pm in the Eloise Covert Smith Theater.  Tickets on sale 7/2/21.Contact the McKinley Box Office for seating and ticket information at 740-351-3600 or info@vrcfa.com.
X-ALT-DESC;FMTTYPE=text/html:<span style="font-size:36px\;"><strong>The Roy Rogers Festival presents SONS OF THE PIONEERS</strong> starting at 7:30 pm in the Eloise Covert Smith Theater.&nbsp\; Tickets on sale 7/2/21.Contact the McKinley Box Office for seating and ticket information at 740-351-3600 or info@vrcfa.com.</span><br />\n&nbsp\;
LOCATION:
UID:e.3589.243
SEQUENCE:3
DTSTAMP:20260419T165335Z
URL:https://business.portsmouth.org/events/details/sons-of-the-pioneers-243
END:VEVENT

END:VCALENDAR
