BEGIN:VCALENDAR
VERSION:2.0
PRODID:-//ChamberMaster//Event Calendar 2.0//EN
METHOD:PUBLISH
X-PUBLISHED-TTL:P3D
REFRESH-INTERVAL:P3D
CALSCALE:GREGORIAN
BEGIN:VEVENT
DTSTART:20240424T160000Z
DTEND:20240424T170000Z
X-MICROSOFT-CDO-ALLDAYEVENT:FALSE
SUMMARY:Southern Ohio Safety Council
DESCRIPTION:Monthly Safety Council meeting
X-ALT-DESC;FMTTYPE=text/html:<br />\n<span style="font-size: 34.6667px\; letter-spacing: -0.133333px\;"><b>Monthly Safety Council meeting</b></span>
LOCATION:
UID:e.3589.2179
SEQUENCE:3
DTSTAMP:20260425T125832Z
URL:https://business.portsmouth.org/events/details/southern-ohio-safety-council-2179
END:VEVENT

END:VCALENDAR
