BEGIN:VCALENDAR
VERSION:2.0
PRODID:-//ChamberMaster//Event Calendar 2.0//EN
METHOD:PUBLISH
X-PUBLISHED-TTL:P3D
REFRESH-INTERVAL:P3D
CALSCALE:GREGORIAN
BEGIN:VEVENT
DTSTART:20241211T170000Z
DTEND:20241211T180000Z
X-MICROSOFT-CDO-ALLDAYEVENT:FALSE
SUMMARY:Southern Ohio Safety Council
DESCRIPTION:Introduction to Industrial Hygiene\n\nFeaturing\n\n \n\nDustin Fugett\, Industrial Hygienist \n\nColumbus Service Office\n\n \n\nYou will learn what Industrial Hygiene is\, how to recognize and identify Industrial Hygiene hazards\, how those hazards are evaluated\, and the control measures to take to reduce and eliminate those hazards.\n\nThere is a $15 charge for lunch unless your company has prepaid
X-ALT-DESC;FMTTYPE=text/html:<br />\n<span style="font-size:18.0pt\;">&nbsp\;</span><strong><span style="color:red\;"><span style="font-family:new serif\,serif\;"><span style="font-size:34.0pt\;">Introduction to Industrial Hygiene</span></span></span></strong><br />\n<strong style="outline:none !important\;"><em style="outline:none !important\;"><span style="outline:none !important\;"><span style="font-family:new serif\,serif\;"><span style="font-size:20pt\;">Featuring</span></span></span></em></strong><br />\n&nbsp\;<br />\n<span style="outline:none !important\;"><strong><span style="color:#1D2228\;"><span style="font-family:arial\,sans-serif\;"><span style="font-size:26.0pt\;">Dustin Fugett\, Industrial Hygienist </span></span></span></strong></span><br />\n<span style="outline:none !important\;"><span style="color:#1D2228\;"><span style="font-family:arial\,sans-serif\;"><span style="font-size:18.0pt\;">Columbus Service Office</span></span></span></span><br />\n&nbsp\;<br />\n<span style="outline:none !important\;"><span style="color:#1D2228\;"><span style="font-family:arial\,sans-serif\;"><span style="font-size:18.0pt\;">You will learn what Industrial Hygiene is\, how to recognize and identify Industrial Hygiene hazards\, how those hazards are evaluated\, and the control measures to take to reduce and eliminate those hazards.</span></span></span></span><br />\n<span style="color:#FF0000\;"><span style="font-size:36px\;"><span style="font-family:arial\;"><em><strong>There is a $15 charge for lunch unless your company has prepaid</strong></em></span></span></span><br />\n&nbsp\;
LOCATION:
UID:e.3589.3011
SEQUENCE:3
DTSTAMP:20260421T084155Z
URL:https://business.portsmouth.org/events/details/southern-ohio-safety-council-3011
END:VEVENT

END:VCALENDAR
