BEGIN:VCALENDAR
VERSION:2.0
PRODID:-//ChamberMaster//Event Calendar 2.0//EN
METHOD:PUBLISH
X-PUBLISHED-TTL:P3D
REFRESH-INTERVAL:P3D
CALSCALE:GREGORIAN
BEGIN:VEVENT
DTSTART:20250326T160000Z
DTEND:20250326T170000Z
X-MICROSOFT-CDO-ALLDAYEVENT:FALSE
SUMMARY:Southern Ohio Safety Council
DESCRIPTION:There is a $15 charge for lunch unless your company has prepaid\n\n\n\nOutdoor Hazards\n\nWhat You Need to Know to Keep Your Outdoor Workers Safe\n\nJoin Jenny Richards\, Shawnee State Park Naturalist\, to learn about harmful plants and animals and ways to stay safe while working outdoors.\n\n\n\nJenny grew up on the edge of Shawnee Forest exploring the outdoors with her family. She obtained her BS in Geography from Ohio University\, traveled and worked abroad and returned home to land her dream job as a state park naturalist in the very forest she was raised. She loves sharing her passion for the great outdoors with everyone she meets.\n\nSouthern Ohio Safety Council Virtual Meeting\n\n\n\nWednesday March 26\, 2025\n\nNoon   1 pm\n\nScioto County Welcome Center - 342 2nd Street in Portsmouth
X-ALT-DESC;FMTTYPE=text/html:<br />\n<span style="font-size:18.0pt\;">&nbsp\;</span><span style="color:#0000FF\;"><span style="font-size:36px\;"><span style="font-family:arial\;"><em><strong>There is a $15 charge for lunch unless your company has prepaid</strong></em></span></span></span><br />\n<br />\n<span style="font-size:28px\;"><span style="color:#FF0000\;"><strong>Outdoor Hazards</strong></span></span><br />\n<span style="font-size:16px\;"><em>What You Need to Know to Keep Your Outdoor Workers Safe<br />\nJoin Jenny Richards\, Shawnee State Park Naturalist\, to learn about harmful plants and animals and ways to stay safe while working outdoors.</em></span><br />\n<br />\nJenny grew up on the edge of Shawnee Forest exploring the outdoors with her family. She obtained her BS in Geography from Ohio University\, traveled and worked abroad and returned home to land her dream job as a state park naturalist in the very forest she was raised. She loves sharing her passion for the great outdoors with everyone she meets.<br />\nSouthern Ohio Safety Council Virtual Meeting<br />\n<br />\nWednesday March 26\, 2025<br />\nNoon &ndash\; 1 pm<br />\nScioto County Welcome Center - 342 2nd Street in Portsmouth
LOCATION:
UID:e.3589.3028
SEQUENCE:3
DTSTAMP:20260421T094222Z
URL:https://business.portsmouth.org/events/details/southern-ohio-safety-council-3028
END:VEVENT

END:VCALENDAR
