BEGIN:VCALENDAR
VERSION:2.0
PRODID:-//ChamberMaster//Event Calendar 2.0//EN
METHOD:PUBLISH
X-PUBLISHED-TTL:P3D
REFRESH-INTERVAL:P3D
CALSCALE:GREGORIAN
BEGIN:VEVENT
DTSTART:20251119T170000Z
DTEND:20251119T180000Z
X-MICROSOFT-CDO-ALLDAYEVENT:FALSE
SUMMARY:Southern Ohio Safety Council
DESCRIPTION:There is a $15 charge for lunch unless your company has prepaid\n\nDistracted Driving\n\n \n\n \n\nStay Alert\, Stay Alive\n\n \n\n \n\nPresented by Judy Converse\, Public Information Office\n\n \n\nJudy Converse is the Public Information Officer for the Ohio Traffic Safety Office\, a division of the Ohio Department of Public Safety. Before coming to DPS 3 years ago\, Judy was a TV news producer for 16 years   working in various markets including 11 years in Columbus. She is a 2-time Emmy award winner for news writing and newscast production. Her current work supports various statewide traffic safety programs\, and promoting awareness of safe behaviors to all Ohioans.
X-ALT-DESC;FMTTYPE=text/html:<span style="font-size:18.0pt\;">&nbsp\;</span><span style="color:#0000FF\;"><span style="font-size:36px\;"><span style="font-family:arial\;"><em><strong>There is a $15 charge for lunch unless your company has prepaid</strong></em></span></span></span><br />\n<strong><span style="color:#ED0000\;"><span style="font-size:48.0pt\;">Distracted Driving</span></span></strong><br />\n&nbsp\;<br />\n&nbsp\;<br />\n<strong><em><span style="color:#EE0000\;"><span style="font-size:28.0pt\;">Stay Alert\, Stay Alive</span></span></em></strong><br />\n&nbsp\;<br />\n&nbsp\;<br />\n<strong><em><span style="font-size:20.0pt\;">Presented by Judy Converse\, Public Information Office</span></em></strong><br />\n&nbsp\;<br />\n<span style="font-size:14.0pt\;">Judy&nbsp\;Converse&nbsp\;is the Public Information Officer for the Ohio Traffic Safety Office\, a division of the Ohio Department of Public Safety. Before coming to DPS 3 years ago\,&nbsp\;Judy&nbsp\;was a TV news producer for 16 years &ndash\; working in various markets including 11 years in Columbus. She is a 2-time Emmy award winner for news writing and newscast production. Her current work supports various statewide traffic safety programs\, and promoting awareness of safe behaviors to all Ohioans.</span><br />\n&nbsp\;
LOCATION:
UID:e.3589.3064
SEQUENCE:3
DTSTAMP:20260420T200839Z
URL:https://business.portsmouth.org/events/details/southern-ohio-safety-council-3064
END:VEVENT

END:VCALENDAR
