BEGIN:VCALENDAR
VERSION:2.0
PRODID:-//ChamberMaster//Event Calendar 2.0//EN
METHOD:PUBLISH
X-PUBLISHED-TTL:P3D
REFRESH-INTERVAL:P3D
CALSCALE:GREGORIAN
BEGIN:VEVENT
DTSTART:20260128T170000Z
DTEND:20260128T180000Z
X-MICROSOFT-CDO-ALLDAYEVENT:FALSE
SUMMARY:Southern Ohio Safety Council
DESCRIPTION:There is a $15 charge for lunch unless your company has prepaid\n\nHealth & Wellness Screenings\n\n \n\nPresented by City of Portsmouth Health Department\n\n \n\nHalea Hatton\, Navigator/Community Liaison\n\nBeth Johnson LPN - Public Health Nurse\n\nLotonia Howard RN\, FNP   SSP Nurse Practitioner\n\n \n\n \n\nJoin us for an important wellness session featuring the City of Portsmouth Health Department. Take charge of your health and your workplace wellness with free health screenings including:\n\n \n\n  A1C Testing\n\n  Lipid Panel\n\n  BMI Assessment\n\n  Blood Pressure Checks\n\n  Flu Shots & more!\n\n \n\n* You must be present for the entire meeting to get Safety Council credit.
X-ALT-DESC;FMTTYPE=text/html:<span style="font-size:18.0pt\;">&nbsp\;</span><span style="color:#0000FF\;"><span style="font-size:36px\;"><span style="font-family:arial\;"><em><strong>There is a $15 charge for lunch unless your company has prepaid</strong></em></span></span></span><br />\n<strong><span style="color:#EE0000\;"><span style="font-size:36.0pt\;">Health &amp\; Wellness Screenings</span></span></strong><br />\n&nbsp\;<br />\n<strong><em><span style="color:black\;"><span style="font-size:20.0pt\;">Presented by City of Portsmouth Health Department</span></span></em></strong><br />\n&nbsp\;<br />\n<strong><span style="color:black\;"><span style="font-size:20.0pt\;">Halea Hatton\, Navigator/Community Liaison</span></span></strong><br />\n<strong><span style="color:black\;"><span style="font-size:20.0pt\;">Beth Johnson LPN - Public Health Nurse</span></span></strong><br />\n<strong><span style="color:black\;"><span style="font-size:20.0pt\;">Lotonia Howard RN\, FNP &ndash\; SSP Nurse Practitioner</span></span></strong><br />\n&nbsp\;<br />\n&nbsp\;<br />\n<strong><span style="color:#EE0000\;"><span style="font-size:22.0pt\;">Join us for an important wellness session featuring the City of Portsmouth Health Department. Take charge of your health and your workplace wellness with free health screenings including:</span></span></strong><br />\n&nbsp\;<br />\n<strong><span style="font-size:20.0pt\;">&bull\; A1C Testing<br />\n&bull\; Lipid Panel<br />\n&bull\; BMI Assessment<br />\n&bull\; Blood Pressure Checks<br />\n&bull\; Flu Shots &amp\; more!</span></strong><br />\n&nbsp\;<br />\n<strong><span style="color:#EE0000\;"><span style="font-size:28.0pt\;">* You must be present for the entire meeting to get Safety Council credit.&nbsp\; </span></span></strong><br />\n&nbsp\;
LOCATION:
UID:e.3589.3066
SEQUENCE:3
DTSTAMP:20260420T210109Z
URL:https://business.portsmouth.org/events/details/southern-ohio-safety-council-3066
END:VEVENT

END:VCALENDAR
