BEGIN:VCALENDAR
VERSION:2.0
PRODID:-//ChamberMaster//Event Calendar 2.0//EN
METHOD:PUBLISH
X-PUBLISHED-TTL:P3D
REFRESH-INTERVAL:P3D
CALSCALE:GREGORIAN
BEGIN:VEVENT
DTSTART:20260429T160000Z
DTEND:20260429T170000Z
X-MICROSOFT-CDO-ALLDAYEVENT:FALSE
SUMMARY:Southern Ohio Safety Council
DESCRIPTION:There is a $15 charge for lunch unless your company has prepaid\n\n\n\nCulture Driven Safety\n\nLeading from the Inside Out\n\nPresented By\n\nJim Mangas\, CEO and Founder\n\nRevolutionary Safety Services LLC\n\n\n\n\n\nIn this session\, we will discuss how a strong\, values-based safety culture is the foundation of lasting safety performance. Participants will learn how leadership behavior\, employee engagement\, and shared accountability drive safer outcomes beyond just compliance.\n\n \n\nAbout our speaker ..\n\n \n\nJim Mangas is the CEO and Founder of Revolutionary Safety Services LLC\, based in Anna\, Ohio. He holds both a bachelor's and a master's degree in Occupational Health and Safety from Columbia Southern University and is a Certified Safety Professional (CSP). With over 25 years of experience across multiple industries\, Jim is dedicated to helping organizations reduce risk\, strengthen safety culture\, and protect their most valuable asset their people. His hands-on leadership and commitment to practical\, effective solutions have made Revolutionary Safety Services a trusted partner for businesses nationwide.
X-ALT-DESC;FMTTYPE=text/html:<span style="font-size:18.0pt\;">&nbsp\;</span><span style="color:#0000FF\;"><span style="font-size:36px\;"><span style="font-family:arial\;"><em><strong>There is a $15 charge for lunch unless your company has prepaid</strong></em></span></span></span><br />\n<br />\n<strong><span style="border:none windowtext 1.0pt\;padding:0in\;"><span style="color:#EE0000\;"><span style="font-family:aptos\,sans-serif\;"><span style="font-size:36.0pt\;">Culture Driven Safety</span></span></span></span></strong><br />\n<strong><span style="border:none windowtext 1.0pt\;padding:0in\;"><span style="color:#EE0000\;"><span style="font-family:aptos\,sans-serif\;"><span style="font-size:36.0pt\;">Leading from the Inside Out</span></span></span></span></strong><br />\n<strong><em><span style="border:none windowtext 1.0pt\;padding:0in\;"><span style="color:#EE0000\;"><span style="font-family:aptos\,sans-serif\;"><span style="font-size:16.0pt\;">Presented By</span></span></span></span></em></strong><br />\n<span style="font-size:20px\;"><strong><span style="border:none windowtext 1.0pt\;padding:0in\;"><span style="color:#EE0000\;"><span style="font-family:aptos\,sans-serif\;">Jim Mangas\, CEO and Founder</span></span></span></strong></span><br />\n<span style="font-size:20px\;"><strong><span style="border:none windowtext 1.0pt\;padding:0in\;"><span style="color:#EE0000\;"><span style="font-family:aptos\,sans-serif\;">Revolutionary Safety Services LLC</span></span></span></strong></span><br />\n<br />\n<br />\n<span style="border:none windowtext 1.0pt\;padding:0in\;"><span style="color:black\;"><span style="font-family:aptos\,sans-serif\;"><span style="font-size:18.0pt\;">In this session\, we will discuss how a strong\, values-based safety culture is the foundation of lasting safety performance. Participants will learn how leadership behavior\, employee engagement\, and shared accountability drive safer outcomes&mdash\;beyond just compliance.</span></span></span></span><br />\n&nbsp\;<br />\n<strong><em><span style="border:none windowtext 1.0pt\;padding:0in\;"><span style="color:#EE0000\;"><span style="font-family:aptos\,sans-serif\;"><span style="font-size:16.0pt\;">About our speaker&hellip\;..</span></span></span></span></em></strong><br />\n&nbsp\;<br />\n<strong><span style="border:none windowtext 1.0pt\;padding:0in\;"><span style="color:black\;"><span style="font-family:aptos\,sans-serif\;"><span style="font-size:14.0pt\;">Jim Mangas</span></span></span></span></strong><span style="border:none windowtext 1.0pt\;padding:0in\;"><span style="color:black\;"><span style="font-family:aptos\,sans-serif\;"><span style="font-size:14.0pt\;">&nbsp\;is the CEO and Founder of&nbsp\;<strong>Revolutionary Safety Services LLC</strong>\, based in Anna\, Ohio. He holds both a bachelor&#39\;s and a master&#39\;s degree in Occupational Health and Safety from Columbia Southern University and is a Certified Safety Professional (CSP). With over 25 years of experience across multiple industries\, Jim is dedicated to helping organizations reduce risk\, strengthen safety culture\, and protect their most valuable asset&mdash\;their people. His hands-on leadership and commitment to practical\, effective solutions have made Revolutionary Safety Services a trusted partner for businesses nationwide.</span></span></span></span><br />\n&nbsp\;
LOCATION:
UID:e.3589.3073
SEQUENCE:3
DTSTAMP:20260421T000802Z
URL:https://business.portsmouth.org/events/details/southern-ohio-safety-council-3073
END:VEVENT

END:VCALENDAR
