BEGIN:VCALENDAR
VERSION:2.0
PRODID:-//ChamberMaster//Event Calendar 2.0//EN
METHOD:PUBLISH
X-PUBLISHED-TTL:P3D
REFRESH-INTERVAL:P3D
CALSCALE:GREGORIAN
BEGIN:VEVENT
DTSTART:20200322T170000Z
DTEND:20200322T200000Z
X-MICROSOFT-CDO-ALLDAYEVENT:FALSE
SUMMARY:Southern Ohio Wedding Expo
DESCRIPTION:Southern Ohio Wedding Expo hosted by Shawnee State University from 1 pm. to 4 pm. ALL engaged couples are invited and welcome to browse our event to help plan their perfect day! The expo will feature different vendors such as photographers\, venues\, rental services\, floral services\, caterers and more! New to the expo this year will be live models featuring bridal gowns and tuxedos from The Ritz!
X-ALT-DESC;FMTTYPE=text/html:<span style="font-size:16px\;"><span style="font-family:tahoma\;"><strong>Southern Ohio Wedding Expo </strong>hosted by Shawnee State University from 1 pm. to 4 pm. ALL engaged couples are invited and welcome to browse our event to help plan their perfect day! The expo will feature different vendors such as photographers\, venues\, rental services\, floral services\, caterers and more! New to the expo this year will be live models featuring bridal gowns and tuxedos from The Ritz!&nbsp\;</span></span>
LOCATION:Shawnee State University Morris University Center
UID:e.3589.112
SEQUENCE:3
DTSTAMP:20260422T153319Z
URL:https://business.portsmouth.org/events/details/southern-ohio-wedding-expo-112
END:VEVENT

END:VCALENDAR
