BEGIN:VCALENDAR
VERSION:2.0
PRODID:-//ChamberMaster//Event Calendar 2.0//EN
METHOD:PUBLISH
X-PUBLISHED-TTL:P3D
REFRESH-INTERVAL:P3D
CALSCALE:GREGORIAN
BEGIN:VEVENT
DTSTART:20210522T130000Z
DTEND:20210522T190000Z
X-MICROSOFT-CDO-ALLDAYEVENT:FALSE
SUMMARY:Spring Cleanup Day
DESCRIPTION:The Friends of Portsmouth will be hosting their annual spring cleanup day in all six wards of the city. \n\n \n\nWatch their Facebook page for details. \n\n\n\nhttps://www.facebook.com/FriendsOfPortsmouth
X-ALT-DESC;FMTTYPE=text/html:<span style="font-size:20px\;"><strong>The Friends of Portsmouth will be hosting their annual spring cleanup day in all six wards of the city.&nbsp\;<br />\n&nbsp\;<br />\nWatch their Facebook page for details.&nbsp\;</strong></span><br />\n<br />\n<a href="https://www.facebook.com/FriendsOfPortsmouth">https://www.facebook.com/FriendsOfPortsmouth</a>
LOCATION:
UID:e.3589.182
SEQUENCE:3
DTSTAMP:20260419T201444Z
URL:https://business.portsmouth.org/events/details/spring-cleanup-day-182
END:VEVENT

END:VCALENDAR
