BEGIN:VCALENDAR
VERSION:2.0
PRODID:-//ChamberMaster//Event Calendar 2.0//EN
METHOD:PUBLISH
X-PUBLISHED-TTL:P3D
REFRESH-INTERVAL:P3D
CALSCALE:GREGORIAN
BEGIN:VEVENT
DTSTART:20200314T170000Z
DTEND:20200314T190000Z
X-MICROSOFT-CDO-ALLDAYEVENT:FALSE
SUMMARY:St. Patrick's Day Parade
DESCRIPTION:The 14th Annual St. Patrick's Day Parade in downtown Portsmouth at 5th & Market Streets.  Parade line up will be at 1 pm and start marching at 2 pm - please note the time change. Parade applications available at the Scioto County Welcome Center offices.  For more information\, find the event on Facebook.
X-ALT-DESC;FMTTYPE=text/html:<span style="font-size:16px\;"><span style="color:#008000\;"><strong>The 14<sup>th</sup> Annual St. Patrick&rsquo\;s Day Parade in downtown Portsmouth at 5<sup>th</sup> &amp\; Market Streets.&nbsp\; Parade line up will be at 1 pm and start marching at 2 pm - please note the time change. Parade applications available at the Scioto County Welcome Center offices.&nbsp\; For more information\, find the event on Facebook.</strong></span></span>
LOCATION:Line up at 5th and Market Streets in downtown Portsmouth
UID:e.3589.110
SEQUENCE:3
DTSTAMP:20260422T134817Z
URL:https://business.portsmouth.org/events/details/st-patrick-s-day-parade-110
END:VEVENT

END:VCALENDAR
