BEGIN:VCALENDAR
VERSION:2.0
PRODID:-//ChamberMaster//Event Calendar 2.0//EN
METHOD:PUBLISH
X-PUBLISHED-TTL:P3D
REFRESH-INTERVAL:P3D
CALSCALE:GREGORIAN
BEGIN:VEVENT
DTSTART:20200515T230000Z
DTEND:20200516T020000Z
X-MICROSOFT-CDO-ALLDAYEVENT:FALSE
SUMMARY:Sylvia @ PLT
DESCRIPTION:May 8th\, 9th\, 15th & 16th   Sylvia\, a comedy presented by the Portsmouth Little Theatre.  Sylvia is a smart\, silly\, sophisticated\, and occasionally salty comedy about relationships\, nature\, and growing older. Rated PG-13.  Doors open at 7 pm and shows start at 7:30.  Find PLT on Facebook\, Twitter and Instagram or at www.pltlive.com.
X-ALT-DESC;FMTTYPE=text/html:&nbsp\;<strong>May 8<sup>th</sup>\, 9<sup>th</sup>\, 15<sup>th</sup> &amp\; 16<sup>th</sup> &ndash\; Sylvia\,</strong> a comedy presented by the Portsmouth Little Theatre.&nbsp\; Sylvia is a smart\, silly\, sophisticated\, and occasionally salty comedy about relationships\, nature\, and growing older. Rated PG-13.&nbsp\; Doors open at 7 pm and shows start at 7:30.&nbsp\; Find PLT on Facebook\, Twitter and Instagram or at www.pltlive.com.
LOCATION:Portsmouth Little Theatre 1117 Lawson Street\, Portsmouth\, OH 45662
UID:e.3589.61
SEQUENCE:3
DTSTAMP:20260422T110314Z
URL:https://business.portsmouth.org/events/details/sylvia-plt-61
END:VEVENT

END:VCALENDAR
