BEGIN:VCALENDAR
VERSION:2.0
PRODID:-//ChamberMaster//Event Calendar 2.0//EN
METHOD:PUBLISH
X-PUBLISHED-TTL:P3D
REFRESH-INTERVAL:P3D
CALSCALE:GREGORIAN
BEGIN:VEVENT
DTSTART:20240222T220000Z
DTEND:20240223T000000Z
X-MICROSOFT-CDO-ALLDAYEVENT:FALSE
SUMMARY:The Growing Community
DESCRIPTION:An educational and fun program for the newest of gardeners! We are here to help with the very basics for a variety of situations. Black thumb? No problem. Let's see how we can help. No room? No problem. Let's talk containers! Want to try something new? Raised beds? Come check us out and we see how we can help!
X-ALT-DESC;FMTTYPE=text/html:<br />\n<br />\nAn educational and fun program for the newest of gardeners! We are here to help with the very basics for a variety of situations. Black thumb? No problem. Let&#39\;s see how we can help. No room? No problem. Let&#39\;s talk containers! Want to try something new? Raised beds? Come check us out and we see how we can help!
LOCATION:USDA building. Scioto Soil and Water Conservation District 12167A St. Rt. 104 Lucasville\, Ohio 45648
UID:e.3589.2245
SEQUENCE:3
DTSTAMP:20260425T102419Z
URL:https://business.portsmouth.org/events/details/the-growing-community-2245
END:VEVENT

END:VCALENDAR
