BEGIN:VCALENDAR
VERSION:2.0
PRODID:-//ChamberMaster//Event Calendar 2.0//EN
METHOD:PUBLISH
X-PUBLISHED-TTL:P3D
REFRESH-INTERVAL:P3D
CALSCALE:GREGORIAN
BEGIN:VEVENT
DTSTART:20241026T200000Z
DTEND:20241026T220000Z
X-MICROSOFT-CDO-ALLDAYEVENT:FALSE
SUMMARY:The Mystic Rose Witch Walk
DESCRIPTION:Free Community Fun for all ages! Get out your best pointy shoes and hat and dress up in witchy attire for the second annual witch walk with The Mystic Rose. Meeting at 4pm on the last Saturday in October\, we gather at 208 Market Street shop. The Costumed Parade we will march East on Second\, then cross to the Murals\, then back to Market. Please bring a bag of candy to pass out to onlookers and treaters! The Best dressed Adult Witch wins $100 cash and a year of bragging rights! Guest community judges\, will award first\, second ($50 gift card) and third place ($25 gift card). Excited to see if we can top last year's attendance of 65!
X-ALT-DESC;FMTTYPE=text/html:Free Community Fun for all ages! Get out your best pointy shoes and hat and dress up in witchy attire for the second annual witch walk with The Mystic Rose. Meeting at 4pm on the last Saturday in October\, we gather at 208 Market Street shop. The Costumed Parade we will march East on Second\, then cross to the Murals\, then back to Market. Please bring a bag of candy to pass out to onlookers and treaters! The Best dressed Adult Witch wins $100 cash and a year of bragging rights! Guest community judges\, will award first\, second ($50 gift card) and third place ($25 gift card). Excited to see if we can top last year&rsquo\;s attendance of 65!
LOCATION:The Mystic Rose 208 Market Street Portsmouth\, OH
UID:e.3589.2479
SEQUENCE:3
DTSTAMP:20260421T204752Z
URL:https://business.portsmouth.org/events/details/the-mystic-rose-witch-walk-2479
END:VEVENT

END:VCALENDAR
