BEGIN:VCALENDAR
VERSION:2.0
PRODID:-//ChamberMaster//Event Calendar 2.0//EN
METHOD:PUBLISH
X-PUBLISHED-TTL:P3D
REFRESH-INTERVAL:P3D
CALSCALE:GREGORIAN
BEGIN:VEVENT
DTSTART;VALUE=DATE:20240315
DTEND;VALUE=DATE:20240318
TRANSP:TRANSPARENT
X-MICROSOFT-CDO-ALLDAYEVENT:TRUE
SUMMARY:The Spongebob Musical - Youth Edition
DESCRIPTION:Presented by the Portsmouth Area Arts Council. Contact the McKinley Box Office at 740-351-3600 or info@vrcfa.com
X-ALT-DESC;FMTTYPE=text/html:Presented by the Portsmouth Area Arts Council. Contact the McKinley Box Office at 740-351-3600 or info@vrcfa.com&nbsp\;
LOCATION:
UID:e.3589.2262
SEQUENCE:3
DTSTAMP:20260425T103146Z
URL:https://business.portsmouth.org/events/details/the-spongebob-musical-youth-edition-2262
END:VEVENT

END:VCALENDAR
