BEGIN:VCALENDAR
VERSION:2.0
PRODID:-//ChamberMaster//Event Calendar 2.0//EN
METHOD:PUBLISH
X-PUBLISHED-TTL:P3D
REFRESH-INTERVAL:P3D
CALSCALE:GREGORIAN
BEGIN:VEVENT
DTSTART;VALUE=DATE:20221030
DTEND;VALUE=DATE:20221031
TRANSP:TRANSPARENT
X-MICROSOFT-CDO-ALLDAYEVENT:TRUE
SUMMARY:Tombstone Trot
DESCRIPTION:October 30th - TOMBSTONE TROT at Greenlawn Cemetery at 2:00pm. This is a family-friendly 5K run\, walk\, stroll\, or roll through Greenlawn Cemetery. There will also be a kid's fun run just before the main event. Go to https://www.tristateracer.com/tombstonetrot to register online or download the mailable registration form. All proceeds from this event will be used for our continued restoration of historic Greenlawn Cemetery.
X-ALT-DESC;FMTTYPE=text/html:<span style="font-size:22px\;"><strong>October 30<sup>th</sup> - TOMBSTONE TROT </strong>at Greenlawn Cemetery at 2:00pm. This is a family-friendly 5K run\, walk\, stroll\, or roll through Greenlawn Cemetery. There will also be a kid&#39\;s fun run just before the main event. Go to <a href="https://www.tristateracer.com/tombstonetrot">https://www.tristateracer.com/tombstonetrot</a> to register online or download the mailable registration form. All proceeds from this event will be used for our continued restoration of historic Greenlawn Cemetery.</span>
LOCATION:
UID:e.3589.458
SEQUENCE:3
DTSTAMP:20260425T021521Z
URL:https://business.portsmouth.org/events/details/tombstone-trot-458
END:VEVENT

END:VCALENDAR
