BEGIN:VCALENDAR
VERSION:2.0
PRODID:-//ChamberMaster//Event Calendar 2.0//EN
METHOD:PUBLISH
X-PUBLISHED-TTL:P3D
REFRESH-INTERVAL:P3D
CALSCALE:GREGORIAN
BEGIN:VEVENT
DTSTART;VALUE=DATE:20221031
DTEND;VALUE=DATE:20221101
TRANSP:TRANSPARENT
X-MICROSOFT-CDO-ALLDAYEVENT:TRUE
SUMMARY:Trick or Treat
DESCRIPTION:October 31st   Trick-or-Treat for the City of Portsmouth and Scioto County from 5   7 pm.
X-ALT-DESC;FMTTYPE=text/html:<span style="font-size:20px\;"><strong>October 31<sup>st</sup> &ndash\; Trick-or-Treat </strong>for the City of Portsmouth and Scioto County from 5 &ndash\; 7 pm.&nbsp\;</span>
LOCATION:
UID:e.3589.436
SEQUENCE:3
DTSTAMP:20260425T021247Z
URL:https://business.portsmouth.org/events/details/trick-or-treat-436
END:VEVENT

END:VCALENDAR
