BEGIN:VCALENDAR
VERSION:2.0
PRODID:-//ChamberMaster//Event Calendar 2.0//EN
METHOD:PUBLISH
X-PUBLISHED-TTL:P3D
REFRESH-INTERVAL:P3D
CALSCALE:GREGORIAN
BEGIN:VEVENT
DTSTART:20240210T220000Z
DTEND:20240211T020000Z
X-MICROSOFT-CDO-ALLDAYEVENT:FALSE
SUMMARY:Valentine's Dinner for Two
DESCRIPTION:Escape to Shawnee Lodge with your Valentine for a delicious dinner for 2 with magnificent views of Shawnee State Park. Our chef has prepared three specialty entrees for your and your loved one to choose from along with appetizers and decadent desserts! View Menu at https://www.shawneeparklodge.com/dining/valentines-dinner-for-two
X-ALT-DESC;FMTTYPE=text/html:Escape to Shawnee Lodge with your Valentine for a delicious dinner for 2 with magnificent views of Shawnee State Park. Our chef has prepared three specialty entrees for your and your loved one to choose from along with appetizers and decadent desserts! View Menu at https://www.shawneeparklodge.com/dining/valentines-dinner-for-two
LOCATION:Shawnee State Park Lodge
UID:e.3589.2242
SEQUENCE:3
DTSTAMP:20260425T103158Z
URL:https://business.portsmouth.org/events/details/valentine-s-dinner-for-two-02-10-2024-2242
END:VEVENT

END:VCALENDAR
